BEGIN:VCALENDAR
VERSION:2.0
PRODID:-//Hummingbird™ Music - ECPv6.15.13.1//NONSGML v1.0//EN
CALSCALE:GREGORIAN
METHOD:PUBLISH
X-ORIGINAL-URL:https://hummingbirdmusic.ca
X-WR-CALDESC:Events for Hummingbird™ Music
REFRESH-INTERVAL;VALUE=DURATION:PT1H
X-Robots-Tag:noindex
X-PUBLISHED-TTL:PT1H
BEGIN:VTIMEZONE
TZID:America/Toronto
BEGIN:DAYLIGHT
TZOFFSETFROM:-0500
TZOFFSETTO:-0400
TZNAME:EDT
DTSTART:20290311T070000
END:DAYLIGHT
BEGIN:STANDARD
TZOFFSETFROM:-0400
TZOFFSETTO:-0500
TZNAME:EST
DTSTART:20291104T060000
END:STANDARD
BEGIN:DAYLIGHT
TZOFFSETFROM:-0500
TZOFFSETTO:-0400
TZNAME:EDT
DTSTART:20300310T070000
END:DAYLIGHT
BEGIN:STANDARD
TZOFFSETFROM:-0400
TZOFFSETTO:-0500
TZNAME:EST
DTSTART:20301103T060000
END:STANDARD
BEGIN:DAYLIGHT
TZOFFSETFROM:-0500
TZOFFSETTO:-0400
TZNAME:EDT
DTSTART:20310309T070000
END:DAYLIGHT
BEGIN:STANDARD
TZOFFSETFROM:-0400
TZOFFSETTO:-0500
TZNAME:EST
DTSTART:20311102T060000
END:STANDARD
END:VTIMEZONE
BEGIN:VEVENT
DTSTART;TZID=America/Toronto:20301207T100000
DTEND;TZID=America/Toronto:20301207T170000
DTSTAMP:20260419T235628
CREATED:20250225T190754Z
LAST-MODIFIED:20250225T190755Z
UID:10003749-1922868000-1922893200@hummingbirdmusic.ca
SUMMARY:Nepean School of Music Band Program
DESCRIPTION:
URL:https://hummingbirdmusic.ca/event/nepean-school-of-music-band-program-2/2030-12-07/
LOCATION:Hummingbird Hall\, 900 Greenbank Rd\, Lower Level\, Office Tower\, Ottawa\, Ontario\, K2J 1S8\, Canada
CATEGORIES:Music,Performance Opportunity,Songwriting
ATTACH;FMTTYPE=image/jpeg:https://hummingbirdmusic.ca/wp-content/uploads/2025/01/2025-01-Capstone-Rock-Band-Post.jpg
GEO:45.285188;-75.756418
X-APPLE-STRUCTURED-LOCATION;VALUE=URI;X-ADDRESS=Hummingbird Hall 900 Greenbank Rd Lower Level Office Tower Ottawa Ontario K2J 1S8 Canada;X-APPLE-RADIUS=500;X-TITLE=900 Greenbank Rd\, Lower Level\, Office Tower:geo:-75.756418,45.285188
END:VEVENT
BEGIN:VEVENT
DTSTART;TZID=America/Toronto:20301214T100000
DTEND;TZID=America/Toronto:20301214T170000
DTSTAMP:20260419T235628
CREATED:20250225T190754Z
LAST-MODIFIED:20250225T190755Z
UID:10003750-1923472800-1923498000@hummingbirdmusic.ca
SUMMARY:Nepean School of Music Band Program
DESCRIPTION:
URL:https://hummingbirdmusic.ca/event/nepean-school-of-music-band-program-2/2030-12-14/
LOCATION:Hummingbird Hall\, 900 Greenbank Rd\, Lower Level\, Office Tower\, Ottawa\, Ontario\, K2J 1S8\, Canada
CATEGORIES:Music,Performance Opportunity,Songwriting
ATTACH;FMTTYPE=image/jpeg:https://hummingbirdmusic.ca/wp-content/uploads/2025/01/2025-01-Capstone-Rock-Band-Post.jpg
GEO:45.285188;-75.756418
X-APPLE-STRUCTURED-LOCATION;VALUE=URI;X-ADDRESS=Hummingbird Hall 900 Greenbank Rd Lower Level Office Tower Ottawa Ontario K2J 1S8 Canada;X-APPLE-RADIUS=500;X-TITLE=900 Greenbank Rd\, Lower Level\, Office Tower:geo:-75.756418,45.285188
END:VEVENT
BEGIN:VEVENT
DTSTART;TZID=America/Toronto:20301221T100000
DTEND;TZID=America/Toronto:20301221T170000
DTSTAMP:20260419T235628
CREATED:20250225T190754Z
LAST-MODIFIED:20250225T190755Z
UID:10003751-1924077600-1924102800@hummingbirdmusic.ca
SUMMARY:Nepean School of Music Band Program
DESCRIPTION:
URL:https://hummingbirdmusic.ca/event/nepean-school-of-music-band-program-2/2030-12-21/
LOCATION:Hummingbird Hall\, 900 Greenbank Rd\, Lower Level\, Office Tower\, Ottawa\, Ontario\, K2J 1S8\, Canada
CATEGORIES:Music,Performance Opportunity,Songwriting
ATTACH;FMTTYPE=image/jpeg:https://hummingbirdmusic.ca/wp-content/uploads/2025/01/2025-01-Capstone-Rock-Band-Post.jpg
GEO:45.285188;-75.756418
X-APPLE-STRUCTURED-LOCATION;VALUE=URI;X-ADDRESS=Hummingbird Hall 900 Greenbank Rd Lower Level Office Tower Ottawa Ontario K2J 1S8 Canada;X-APPLE-RADIUS=500;X-TITLE=900 Greenbank Rd\, Lower Level\, Office Tower:geo:-75.756418,45.285188
END:VEVENT
BEGIN:VEVENT
DTSTART;TZID=America/Toronto:20301228T100000
DTEND;TZID=America/Toronto:20301228T170000
DTSTAMP:20260419T235628
CREATED:20250225T190754Z
LAST-MODIFIED:20250225T190755Z
UID:10003752-1924682400-1924707600@hummingbirdmusic.ca
SUMMARY:Nepean School of Music Band Program
DESCRIPTION:
URL:https://hummingbirdmusic.ca/event/nepean-school-of-music-band-program-2/2030-12-28/
LOCATION:Hummingbird Hall\, 900 Greenbank Rd\, Lower Level\, Office Tower\, Ottawa\, Ontario\, K2J 1S8\, Canada
CATEGORIES:Music,Performance Opportunity,Songwriting
ATTACH;FMTTYPE=image/jpeg:https://hummingbirdmusic.ca/wp-content/uploads/2025/01/2025-01-Capstone-Rock-Band-Post.jpg
GEO:45.285188;-75.756418
X-APPLE-STRUCTURED-LOCATION;VALUE=URI;X-ADDRESS=Hummingbird Hall 900 Greenbank Rd Lower Level Office Tower Ottawa Ontario K2J 1S8 Canada;X-APPLE-RADIUS=500;X-TITLE=900 Greenbank Rd\, Lower Level\, Office Tower:geo:-75.756418,45.285188
END:VEVENT
END:VCALENDAR